BEGIN:VCALENDAR
VERSION:2.0
PRODID:-//wp-events-plugin.com//7.1.2//EN
BEGIN:VEVENT
UID:33@greatlakesacademy.org
DTSTART:20260611T080000Z
DTEND:20260611T120000Z
DTSTAMP:20250825T191346Z
URL:https://greatlakesacademy.org/events/half-day-last-day-of-school-end-o
 f-fourth-quarter/
SUMMARY:Half Day - Last Day of School - End of fourth Quarter
DESCRIPTION:
ATTACH;FMTTYPE=image/jpeg:https://greatlakesacademy.org/wp-content/uploads
 /2025/08/upcoming_events.jpg
END:VEVENT
END:VCALENDAR